BEGIN:VCALENDAR
VERSION:2.0
PRODID:-//Le Ciné - ECPv6.15.16//NONSGML v1.0//EN
CALSCALE:GREGORIAN
METHOD:PUBLISH
X-ORIGINAL-URL:https://lecinedemontguyon.fr
X-WR-CALDESC:Évènements pour Le Ciné
REFRESH-INTERVAL;VALUE=DURATION:PT1H
X-Robots-Tag:noindex
X-PUBLISHED-TTL:PT1H
BEGIN:VTIMEZONE
TZID:UTC
BEGIN:STANDARD
TZOFFSETFROM:+0000
TZOFFSETTO:+0000
TZNAME:UTC
DTSTART:20240101T000000
END:STANDARD
END:VTIMEZONE
BEGIN:VEVENT
DTSTART;TZID=UTC:20251018T153000
DTEND;TZID=UTC:20251018T170000
DTSTAMP:20260421T100757
CREATED:20251014T103232Z
LAST-MODIFIED:20251014T105516Z
UID:14941-1760801400-1760806800@lecinedemontguyon.fr
SUMMARY:Ciné - Goûter : Roquette et les mal aimés
DESCRIPTION:Venez à 15h30 pour partager un goûter offert par le Ciné de Montguyon avec votre place de ciné puis prenez places pour la projection de Roquette et les mal-aimés dans le cadre du festival Cinéphilous 17 ! \n\n\n\nUN PROGRAMME DE QUATRE COURTS-MÉTRAGES À PARTIR DE 4 ANS. \n\n\n\nEmbarquez pour une aventure cinématographique inoubliable avec «Roquette & les Mal-Aimés» de Hélène Ducroq [ France\, 2024\, 40 min.]\, le nouveau volet captivant après le succès de «Les Mal-Aimés».  \n\n\n\n\nPlongez dans quatre histoires riches en rencontres mémorables\, explorant des univers créatifs variés\, de la ville à la campagne\, de la montagne à la mer. Rencontrez des héros méconnus de la nature tels que l’ours\, le requin\, le corbeau\, la renarde et la blairelle\, filmés à hauteur d’enfants pour éveiller la curiosité\, nourrir l’imagination et inspirer l’amour pour ces compagnons mal-aimés. Une suite attendue qui charmera et inspirera\, tout en continuant à ravir les fans du premier volet. Préparez-vous à sourire\, à être surpris et à être touché en plein cœur\, tout en découvrant les valeurs puissantes d’amitié\, de découverte et de respect de la biodiversité 
URL:https://lecinedemontguyon.fr/evenement/cine-gouter-roquette-et-les-mal-aimes
LOCATION:Le Ciné de Montguyon\, Allée des platanes\, MONTGUYON\, 17270\, France
CATEGORIES:Animations,Evènements
END:VEVENT
BEGIN:VEVENT
DTSTART;TZID=UTC:20251022T163000
DTEND;TZID=UTC:20251022T183000
DTSTAMP:20260421T100757
CREATED:20251014T105012Z
LAST-MODIFIED:20251015T124836Z
UID:14943-1761150600-1761157800@lecinedemontguyon.fr
SUMMARY:Ciné - Atelier : Sens Dessus Dessous
DESCRIPTION:Venez à 16h30 pour participer à un atelier créatif offert par le Ciné de Montguyon avec vos places de ciné puis assistez à la projection de Sens Dessus Dessous dans le cadre du festival Cinéphilous 17 ! \n\n\n\nATELIER ART CRÉATIF (offert avec votre place de ciné)\n\n\n\nAtelier animé par Aurore. Les jeunes artistes utiliseront la nature et tous ses éléments comme supports à leur créativité. \n\n\n\nChacun repartira avec sa création ! \n\n\n\nUN PROGRAMME DE QUATRE COURTS-MÉTRAGES À PARTIR DE 3 ANS.\n\n\n\n\nEn plein cœur de la nature se trouvent des êtres vivants\, qui certes n’ont pas la taille d’un humain\, mais qui chacun à leur façon ont un rôle à jouer dans notre écosystème. \n\n\n\nPromenons-nous dans les bois et rencontrons au fil de ces quatre histoires des personnages aussi petits que gentils: un petit gland qui apprend à marcher grâce à une communauté d’insectes; une famille de mouches qui doit protéger sa maison\, laquelle n’est autre qu’un champignon convoité par un chien et son maître; des lièvres qui vont sauver leur peau en trompant involontairement un blaireau et enfin une petite chauve-souris curieuse qui découvre le monde (à l’endroit ?) d’une famille de petite souris. \n\n\n\nFilm de de Evalds Lacis\, Dace Riduze et Inese Pavene [Lettonie\, 2024\, 40 min]
URL:https://lecinedemontguyon.fr/evenement/cine-atelier-sens-dessus-dessous
LOCATION:Le Ciné de Montguyon\, Allée des platanes\, MONTGUYON\, 17270\, France
CATEGORIES:Animations
ATTACH;FMTTYPE=image/png:https://lecinedemontguyon.fr/wp-content/uploads/2023/01/LOGO_LE-CINE_OK_ATELIER_VEC.png
END:VEVENT
BEGIN:VEVENT
DTSTART;TZID=UTC:20251023T100000
DTEND;TZID=UTC:20251023T114500
DTSTAMP:20260421T100757
CREATED:20251015T120442Z
LAST-MODIFIED:20251017T081921Z
UID:14963-1761213600-1761219900@lecinedemontguyon.fr
SUMMARY:Ciné - Animation : La Princesse et le Rossignol
DESCRIPTION:Inscrivez vous à l’atelier du chant des oiseaux avant d’assister à la projection du film animé La Princesse et le Rossignol. Un moment à partager en famille pour des enfants à partir de 4 ans. L’animation est comprise dans le prix de la place à 4 € pour chacun.e dans le cadre du festival Cinéphilous 17 ! \n\n\n\nANIMATION ENFANTS CHANTS D’OISEAUX (offert avec votre place de ciné)\n\n\n\nAnimation enfants chants d’oiseaux avec histoire contée\, flûte traversière\, jeu sonore\, balade et observation à 10h00. \n\n\n\nAtelier animé par Julie de La petite fabrique d’autonomie. \n\n\n\nPROJECTION DE LA PRINCESSE ET LE ROSSIGNOL A PARTIR DE 4 ANS A 11H00\n\n\n\n\nTrois histoires douces et pleines de poésie\, où de jeunes héros prennent leur envol. \n\n\n\nUn tout petit oiseau qui défie un plus grand que lui\, un jeune moine qui suit un moineau au-delà du temple\, une fillette curieuse qui rêve de liberté… Chacun\, à sa façon\, écoute son cœur et part à la découverte du monde. Un programme tendre et inspirant pour les tout-petits\, qui célèbre la curiosité\, la liberté et l’enfance. \n\n\n\nFilm de Pascale Hecquet et Arnaud Demuynck [ France\, Belgique\, 2024\, 45 min.] \n\n\n\n\nAUTRE SÉANCE LE SAMEDI 25 OCTOBRE À 11H00 \n\n\n\nRÉSERVATION SOUHAITÉE POUR LES ATELIERS : lecine3@gmail.com
URL:https://lecinedemontguyon.fr/evenement/cine-animation-la-princesse-et-le-rossignol
LOCATION:Le Ciné de Montguyon\, Allée des platanes\, MONTGUYON\, 17270\, France
CATEGORIES:Animations
ATTACH;FMTTYPE=image/png:https://lecinedemontguyon.fr/wp-content/uploads/2025/10/LOGO_LE-CINE_OK_ANIMATION-OISEAUX-scaled.png
END:VEVENT
BEGIN:VEVENT
DTSTART;TZID=UTC:20251029T170000
DTEND;TZID=UTC:20251029T183000
DTSTAMP:20260421T100757
CREATED:20251021T150225Z
LAST-MODIFIED:20251029T113933Z
UID:15029-1761757200-1761762600@lecinedemontguyon.fr
SUMMARY:Ciné - Lecture : Timioche
DESCRIPTION:Dans le cadre du festival Cinéphilous17\, le Ciné de Montguyon a le plaisir de vous inviter à participer au ciné lecture de Timioche de Alex Bain et Andy Martin [Grande-Bretagne\, Allemagne\, Russie\, 2025\, 41 min.] \n\n\n\n17H00 – CINE-LECTURE\n\n\n\nLecture à la médiathèque de Montguyon par Nathalie de l’album illustré de Julia Donaldson et Axel Scheffler. \n\n\n\n17H30 – PROJECTION POUR ENFANTS A PARTIR DE 3 ANS\n\n\n\n\nLe petit poisson qui racontait des histoires… Timioche\, un petit poisson toujours en retard\, adore inventer des excuses\, souvent plus grosses que lui ! Jusqu’au jour où une mésaventure lui arrive vraiment… \n\n\n\n\nRÉSERVATION SOUHAITÉE POUR LES ATELIERS : lecine3@gmail.com
URL:https://lecinedemontguyon.fr/evenement/cine-lecture-timioche
LOCATION:Le Ciné de Montguyon\, Allée des platanes\, MONTGUYON\, 17270\, France
CATEGORIES:Animations
ATTACH;FMTTYPE=image/png:https://lecinedemontguyon.fr/wp-content/uploads/2025/10/LOGO_LE-CINE_OK_LECTURE-scaled.png
END:VEVENT
END:VCALENDAR