BEGIN:VCALENDAR
VERSION:2.0
PRODID:-//Le Ciné - ECPv6.15.16//NONSGML v1.0//EN
CALSCALE:GREGORIAN
METHOD:PUBLISH
X-ORIGINAL-URL:https://lecinedemontguyon.fr
X-WR-CALDESC:Évènements pour Le Ciné
REFRESH-INTERVAL;VALUE=DURATION:PT1H
X-Robots-Tag:noindex
X-PUBLISHED-TTL:PT1H
BEGIN:VTIMEZONE
TZID:UTC
BEGIN:STANDARD
TZOFFSETFROM:+0000
TZOFFSETTO:+0000
TZNAME:UTC
DTSTART:20240101T000000
END:STANDARD
END:VTIMEZONE
BEGIN:VEVENT
DTSTART;TZID=UTC:20251031T173000
DTEND;TZID=UTC:20251031T233000
DTSTAMP:20260420T102816
CREATED:20251027T140903Z
LAST-MODIFIED:20251027T141019Z
UID:15035-1761931800-1761953400@lecinedemontguyon.fr
SUMMARY:!! SOIREE HALLOWEEN !!
DESCRIPTION:Le Ciné de Montguyon ne rate jamais Halloween et ce n’est pas cette année que ça va commencer.  \n\n\n\nAu programme cette année\, 3 films pour des publics différents : Les Noces Funèbres de Tim Burton\, La Nuit des Clowns et pour finir Marche ou Crève adapté du roman de Stephen King ! \n\n\n\nVenez déguisé pour bénéficier d’un prix particulier.  \n\n\n\n17H30 – A PARTIR DE 8 ANS\n\n\n\n\nLes Noces Funèbres\n\n\n\nde Tim Burton\n\n\n\nAu XIXème siècle\, dans un petit village d’Europe de l’est\, Victor\, un jeune homme\, découvre le monde de l’au-delà après avoir épousé\, sans le vouloir\, le cadavre d’une mystérieuse mariée. \n\n\n\nPendant son voyage\, sa promise\, Victoria l’attend désespérément dans le monde des vivants. Bien que la vie au Royaume des Morts s’avère beaucoup plus colorée et joyeuse que sa véritable existence\, Victor apprend que rien au monde\, pas même la mort\, ne pourra briser son amour pour sa femme. \n\n\n\n\nA PARTIR DE 20H00 – VENEZ TREMBLER !!\n\n\n\n\n\n20H00 – INTERDIT AU MOINS DE 12 ANS\n\n\n\n\n\n\n\n\n\n22H30 – INTERDIT AU MOINS DE 16 ANS\n\n\n\n\n\n\n\n\n\nVENTE DE BOISSONS ET DE GÂTEAUX ENTRE LES 2 FILMS (au profit du Club Drôles de Lumières) \n\n\n\nSans costumeAvec un costumePour 1 film4\,50 €5\,50 €Pour 2 films7\,00 €9\,00 €
URL:https://lecinedemontguyon.fr/evenement/soiree-halloween
LOCATION:Le Ciné de Montguyon\, Allée des platanes\, MONTGUYON\, 17270\, France
CATEGORIES:Evènements
ATTACH;FMTTYPE=image/png:https://lecinedemontguyon.fr/wp-content/uploads/2025/10/LOGO_LE-CINE_OK_VEC_HALLOWEEN-scaled.png
END:VEVENT
END:VCALENDAR